BEGIN:VCALENDAR
VERSION:2.0
PRODID:-//Squarespace Inc/Squarespace 6//v6//EN
BEGIN:VEVENT
UID:56baf58e8259b5a415b7da18@squarespace.com
DTSTAMP:20160215T064846Z
DTSTART:20160410T200000Z
DTEND:20160415T040000Z
SUMMARY:AMPS Whangarei
GEO:-35.713853;174.322435
LOCATION:Cypress Court Motel\, 29 Kamo Road\,\, Regent\, Whangarei
END:VEVENT
END:VCALENDAR
