BEGIN:VCALENDAR
VERSION:2.0
PRODID:-//Squarespace Inc/Squarespace 6//v6//EN
BEGIN:VEVENT
UID:5877131d29687f6027ced662@squarespace.com
DTSTAMP:20170507T081852Z
DTSTART:20170717T203000Z
DTEND:20170722T040000Z
SUMMARY:AMPS Dunedin
END:VEVENT
END:VCALENDAR
