BEGIN:VCALENDAR
VERSION:2.0
PRODID:-//Squarespace Inc/Squarespace 6//v6//EN
BEGIN:VEVENT
UID:5b0132cf6d2a734d9cc4e648@squarespace.com
DTSTAMP:20180520T083903Z
DTSTART:20181125T200000Z
DTEND:20181130T030000Z
SUMMARY:AMPS Auckland
END:VEVENT
END:VCALENDAR
